BEGIN:VCALENDAR
VERSION:2.0
PRODID:-//Eventin//Event Calendar//EN
CALSCALE:GREGORIAN
METHOD:PUBLISH
BEGIN:VEVENT
UID:d5b7ca471ee25f291f8847f3e2fea16d@www.growthopps.org
SUMMARY:RISE Clean Energy Summit 2023
DESCRIPTION:RISE and build the 22nd century community and economy with us
 !\nJoin us for RISE 2023 – an informative all-day event presented by Gr
 owth Opps and the GO\nGreen Energy Fund where businesses\, communities\, an
 d governments unite to invest in our shared future.\nGrowth Opps and GO Gre
 en Energy Fund\, the first African American led Green Bank in the United St
 ates\, are convening leaders across sectors to have meaningful conversation
 s about leveraging the historic $369 billion Inflation Reduction Act for cl
 ean energy and how it can improve health\, prosperity\, and quality of life
  outcomes in your neighborhood.\nThrough plenaries\, panels\, and interacti
 ve breakout sessions\, we will strategically focus on expanding opportunity
  for catalytic investment in the Midwest\, a to help corporations\, communi
 ties and households RISE towards a cleaner\, brighter future. RISE 2023 wil
 l rally leaders and change-makers to take decisive action around creating t
 he 22nd century city and economy where we all can participate and thrive.\n
 We look forward to uniting with you at RISE 2023 as we rise together to bui
 ld a more equitable\, sustainable\, and prosperous world.
LOCATION:Online
DTSTAMP:20260421T141406Z
DTSTART:20230822T113000Z
DTEND:20260421T230000Z
END:VEVENT
END:VCALENDAR
